BEGIN:VCALENDAR
VERSION:2.0
PRODID:-//Figurenzauberei - ECPv6.15.20//NONSGML v1.0//EN
CALSCALE:GREGORIAN
METHOD:PUBLISH
X-WR-CALNAME:Figurenzauberei
X-ORIGINAL-URL:https://www.figurenzauberei.de
X-WR-CALDESC:Veranstaltungen für Figurenzauberei
REFRESH-INTERVAL;VALUE=DURATION:PT1H
X-Robots-Tag:noindex
X-PUBLISHED-TTL:PT1H
BEGIN:VTIMEZONE
TZID:Europe/Berlin
BEGIN:DAYLIGHT
TZOFFSETFROM:+0100
TZOFFSETTO:+0200
TZNAME:CEST
DTSTART:20220327T010000
END:DAYLIGHT
BEGIN:STANDARD
TZOFFSETFROM:+0200
TZOFFSETTO:+0100
TZNAME:CET
DTSTART:20221030T010000
END:STANDARD
BEGIN:DAYLIGHT
TZOFFSETFROM:+0100
TZOFFSETTO:+0200
TZNAME:CEST
DTSTART:20230326T010000
END:DAYLIGHT
BEGIN:STANDARD
TZOFFSETFROM:+0200
TZOFFSETTO:+0100
TZNAME:CET
DTSTART:20231029T010000
END:STANDARD
BEGIN:DAYLIGHT
TZOFFSETFROM:+0100
TZOFFSETTO:+0200
TZNAME:CEST
DTSTART:20240331T010000
END:DAYLIGHT
BEGIN:STANDARD
TZOFFSETFROM:+0200
TZOFFSETTO:+0100
TZNAME:CET
DTSTART:20241027T010000
END:STANDARD
END:VTIMEZONE
BEGIN:VEVENT
DTSTART;TZID=Europe/Berlin:20230409T150000
DTEND;TZID=Europe/Berlin:20230409T170000
DTSTAMP:20260420T141553
CREATED:20230206T192914Z
LAST-MODIFIED:20230207T170006Z
UID:360-1681052400-1681059600@www.figurenzauberei.de
SUMMARY:Osterhasenkasperle
DESCRIPTION:Ein Osterhasenkrimi für Kinder ab 3 Jahren \nDer Osterhase will Prinzessin Violetta ein ganz besonderes Osterei bemalen\, doch als er frische Farbe holen geht\, verschwindet das schöne Ei.
URL:https://www.figurenzauberei.de/veranstaltung/osterhasenkasperle-4
LOCATION:FigurenZauberei\, Preetzer Landstraße 34\, Großharrie\, 24625\, Deutschland
CATEGORIES:Festtage,Osterhasenkasperle
ATTACH;FMTTYPE=image/jpeg:https://www.figurenzauberei.de/wp-content/uploads/2023/02/916A3686-hase-scaled.jpg
ORGANIZER;CN="FigurenZauberei":MAILTO:reservierung@figurenzauberei.de
END:VEVENT
END:VCALENDAR